BEGIN:VCALENDAR
VERSION:2.0
PRODID:DPCALENDAR
CALSCALE:GREGORIAN
BEGIN:VTIMEZONE
TZID:Europe/Dublin
BEGIN:DAYLIGHT
DTSTART:20170326T010000
TZOFFSETFROM:+0000
TZOFFSETTO:+0100
TZNAME:IST
END:DAYLIGHT
BEGIN:STANDARD
DTSTART:20171029T010000
TZOFFSETFROM:+0100
TZOFFSETTO:+0000
TZNAME:GMT
END:STANDARD
END:VTIMEZONE
X-WR-TIMEZONE:Europe/Dublin
BEGIN:VEVENT
DTSTART;TZID=Europe/Dublin:20171027T080000
DTEND;TZID=Europe/Dublin:20171027T090000
UID:B2700E4C-6D14-4675-B8C5-5EDA8C31AD11
SUMMARY:mid term break 2:30 0m
DTSTAMP:20171011T174348Z
DESCRIPTION:
X-ALT-DESC;FMTTYPE=text/html:
X-ACCESS:1
X-HITS:9
X-URL:
X-COLOR:3366CC
END:VEVENT
END:VCALENDAR